{"text_format":"1","workbook":"xlsx","n_sheets":6,"sheets":["buttons","freq curve","output","points","curves","scale"],"not_rendered":{"charts":2,"images":1,"macros":1,"external_links":0,"defined_names":0,"comments":4,"pivot_tables":0},"unopened":[{"sheet":"freq curve","index":1,"reason":"not_a_worksheet"}],"bounds":{"document_bytes":16777216,"sheet_cells":100000,"rows_first":2000,"rows_last":500,"rows_between":2000,"halvings":0,"cell_chars":16384,"cell_head_chars":4096},"cells_cut":0,"cells_raw":0,"read":"whole","date_system":"1900"}

{"sheet":"buttons","index":0,"n_rows":15,"n_cols":10,"rows_kept":15,"cut":false,"hidden":false,"merged":[]}
["Frequency curve plotter",null,null,null,null,"see note",null,"contact",null,"Version:    1  (released December 2018)"]
[]
[null,"place title for graph in cell B4 (or leave blank to read from file)"]
[null,"USGS 06329500 Yellowstone River near Sidney MT"]
[]
[]
[]
[]
[]
["This button is also on",null,null,null,null,null,null,null,"see notes about PeakFQ"]
["the freq curve plot:",null,null,null,null,null,null,null,"note","note"]
[]
[null,null,null,null,null,null,null,null,"Below is a screenshot of page 5-8 of the HecSSP user manual,"]
["This button saves to a",null,null,null,null,null,null,null,"which explains a difference in default confidence limits  between the two programs."]
["new file with no buttons:",null,null,null,null,null,null,null,"It does not mention the PeakFQ nuances explained in the two notes above."]

{"sheet":"output","index":2,"n_rows":24,"n_cols":11,"rows_kept":24,"cut":false,"hidden":false,"merged":[]}
[null,"file:","C:\\USDA\\Work\\development\\Freq17C\\FreqPlot\\Oct2018tests\\PeakFQ\\run6\\run6.PRT"]
[null,null,null,null,null,null,"output of \"read frequency curve\" button:"]
[null,"recurrence","Q","Q2.5","Q97.5",null,"Q","Q2.5","Q97.5","probability","recurrence"]
[null,"(years)","(cfs)","(cfs)","(cfs)",null,"(cfs)","(cfs)","(cfs)","(percent)","(years)"]
[null,1000,200658.11293663693,291269.62584987271,157952.3268976612]
[null,500,185800,259400,149800]
[null,200,166500,219900,138900]
[null,100,151800,192600,129800]
[null,50,137000,167100,119800]
[null,25,121900,143300,108600]
[null,20,116857.11297731112,136344.12914635908,104412.28214163522]
[null,10,101400,114100,91910]
[null,5,84800,93460,77470]
[null,3.3330000000000002,74165.803497294401,81490.284600273866,67758.325729589589]
[null,2.5,66142.508670378447,72485.015914228308,60430.722396826997]
[null,2.3299161230195713,64180,70170,58720]
[null,2,59430,64970,54300]
[null,1.4999250037498126,49180,53860,44640]
[null,1.25,40860,45030,36560]
[null,1.111,33340,37250,28850]
[null,1.0529999999999999,28080,31960,23180]
[null,1.02,22967.912018930554,27103.57096698746,17371.86142239027]
[null,1.01,20130,24220,14520]
[null,1.0049999999999999,17770,21960,12020]

{"sheet":"points","index":3,"n_rows":107,"n_cols":9,"rows_kept":107,"cut":false,"hidden":false,"merged":[]}
["points:",105,"EMA"]
["rank","obs. peak","log (obs)","plot pos.","X-coord",null,"day","month","year"]
[1,159000,5.2013971243204509,9.4000000000000004E-3,{"$f":"NORMSINV(D3)+scale!C$34","v":3.6505268507287894},null,null,null,1921]
[2,138000,5.139879086401236,1.8800000000000001E-2,{"$f":"NORMSINV(D4)+scale!C$34","v":3.9208111926118119},null,null,null,1952]
[3,134000,5.1271047983648073,2.8299999999999999E-2,{"$f":"NORMSINV(D5)+scale!C$34","v":4.0936128911486982},null,null,null,1924]
[4,132000,5.1205739312058496,3.7699999999999997E-2,{"$f":"NORMSINV(D6)+scale!C$34","v":4.2219765282830517},null,null,null,1943]
[5,126000,5.1003705451175625,4.7100000000000003E-2,{"$f":"NORMSINV(D7)+scale!C$34","v":4.3263530218935751},null,null,null,1918]
[6,124000,5.0934216851622347,5.6599999999999998E-2,{"$f":"NORMSINV(D8)+scale!C$34","v":4.4160275998731073},null,null,null,2011]
[7,120000,5.0791812460476242,6.6000000000000003E-2,{"$f":"NORMSINV(D9)+scale!C$34","v":4.4937382767217553},null,null,null,1944]
[8,114000,5.0569048513364727,7.5399999999999995E-2,{"$f":"NORMSINV(D10)+scale!C$34","v":4.5632885494512196},null,null,null,1912]
[9,111000,5.0453229787866576,8.4900000000000003E-2,{"$f":"NORMSINV(D11)+scale!C$34","v":4.627153270222168},null,null,null,1978]
[10,101000,5.0043213737826422,0.1037,{"$f":"NORMSINV(D12)+scale!C$34","v":4.7392529596911945},null,null,null,1916]
[11,101000,5.0043213737826422,9.4299999999999995E-2,{"$f":"NORMSINV(D13)+scale!C$34","v":4.6852680357340271},null,null,null,1927]
[12,100000,5,0.1132,{"$f":"NORMSINV(D14)+scale!C$34","v":4.7903155527400152},null,null,null,1965]
[13,98000,4.9912260756924942,0.1226,{"$f":"NORMSINV(D15)+scale!C$34","v":4.8379126862041932},null,null,null,1947]
[14,97400,4.9885589568786148,0.13200000000000001,{"$f":"NORMSINV(D16)+scale!C$34","v":4.8830132721233896},null,null,null,1915]
[15,94600,4.9758911364017919,0.15090000000000001,{"$f":"NORMSINV(D17)+scale!C$34","v":4.9674189497828394},null,null,null,1917]
[16,94600,4.9758911364017919,0.14149999999999999,{"$f":"NORMSINV(D18)+scale!C$34","v":4.9263955448690027},null,null,null,1929]
[17,89700,4.9527924430440917,0.1603,{"$f":"NORMSINV(D19)+scale!C$34","v":5.0067743479278572},null,null,null,1920]
[18,88900,4.9489017609702133,0.16980000000000001,{"$f":"NORMSINV(D20)+scale!C$34","v":5.045044102027564},null,null,null,1928]
[19,86400,4.9365137424788923,0.1792,{"$f":"NORMSINV(D21)+scale!C$34","v":5.0815818650076503},null,null,null,1922]
[20,86000,4.9344984512435666,0.18870000000000001,{"$f":"NORMSINV(D22)+scale!C$34","v":5.1173029935718253},null,null,null,1963]
[21,85300,4.9309490311675228,0.1981,{"$f":"NORMSINV(D23)+scale!C$34","v":5.1515726205423444},null,null,null,1997]
[22,84200,4.9253120914996495,0.20749999999999999,{"$f":"NORMSINV(D24)+scale!C$34","v":5.1848736672988451},null,null,null,1938]
[23,82600,4.916980047320382,0.217,{"$f":"NORMSINV(D25)+scale!C$34","v":5.2176348351446125},null,null,null,1967]
[24,80000,4.9030899869919429,0.22639999999999999,{"$f":"NORMSINV(D26)+scale!C$34","v":5.2492448073010944},null,null,null,1914]
[25,78400,4.894316062684438,0.23580000000000001,{"$f":"NORMSINV(D27)+scale!C$34","v":5.2801218139442492},null,null,null,1911]
[26,77800,4.8909795969896885,0.25469999999999998,{"$f":"NORMSINV(D28)+scale!C$34","v":5.3402277596769423},null,null,null,1935]
[27,77800,4.8909795969896885,0.24529999999999999,{"$f":"NORMSINV(D29)+scale!C$34","v":5.310645167797535},null,null,null,1948]
[28,77000,4.8864907251724814,0.2641,{"$f":"NORMSINV(D30)+scale!C$34","v":5.3692438822723076},null,null,null,1975]
[29,76400,4.8830933585756897,0.27360000000000001,{"$f":"NORMSINV(D31)+scale!C$34","v":5.3980388527840972},null,null,null,1974]
[30,75000,4.8750612633916992,0.28299999999999997,{"$f":"NORMSINV(D32)+scale!C$34","v":5.4260475814314262},null,null,null,1994]
[31,73800,4.868056361823041,0.29239999999999999,{"$f":"NORMSINV(D33)+scale!C$34","v":5.4536130810541543},null,null,null,1913]
[32,72200,4.858537197569639,0.3019,{"$f":"NORMSINV(D34)+scale!C$34","v":5.4810562964554048},null,null,null,1964]
[33,71300,4.8530895298518653,0.31130000000000002,{"$f":"NORMSINV(D35)+scale!C$34","v":5.5078311735735621},null,null,null,1968]
[34,70600,4.8488047010518036,0.32069999999999999,{"$f":"NORMSINV(D36)+scale!C$34","v":5.5342577411456739},null,null,null,1925]
[35,70000,4.845098040014256,0.33019999999999999,{"$f":"NORMSINV(D37)+scale!C$34","v":5.5606390265888219},null,null,null,1957]
[36,69800,4.8438554226231609,0.33960000000000001,{"$f":"NORMSINV(D38)+scale!C$34","v":5.5864449522165573},null,null,null,2014]
[37,68800,4.8375884382355112,0.34899999999999998,{"$f":"NORMSINV(D39)+scale!C$34","v":5.611978333782023},null,null,null,1962]
[38,68200,4.8337843746564779,0.35849999999999999,{"$f":"NORMSINV(D40)+scale!C$34","v":5.6375288783627564},null,null,null,1942]
[39,67400,4.8286598965353198,0.3679,{"$f":"NORMSINV(D41)+scale!C$34","v":5.6625795887862953},null,null,null,1950]
[40,66500,4.8228216453031036,0.37730000000000002,{"$f":"NORMSINV(D42)+scale!C$34","v":5.6874202962159401},null,null,null,1945]
[41,65300,4.8149131812750738,0.3962,{"$f":"NORMSINV(D43)+scale!C$34","v":5.7368046309807665},null,null,null,1937]
[42,65300,4.8149131812750738,0.38679999999999998,{"$f":"NORMSINV(D44)+scale!C$34","v":5.7123308409086588},null,null,null,1996]
[43,65200,4.8142475957319197,0.40570000000000001,{"$f":"NORMSINV(D45)+scale!C$34","v":5.7613796707825884},null,null,null,1953]
[44,64600,4.8102325179950833,0.41510000000000002,{"$f":"NORMSINV(D46)+scale!C$34","v":5.7855549322320741},null,null,null,1956]
[45,64400,4.8088858673598116,0.42449999999999999,{"$f":"NORMSINV(D47)+scale!C$34","v":5.8096054907951631},null,null,null,1923]
[46,63000,4.7993405494535812,0.434,{"$f":"NORMSINV(D48)+scale!C$34","v":5.8338005598296414},null,null,null,1936]
[47,62900,4.7986506454452691,0.46229999999999999,{"$f":"NORMSINV(D49)+scale!C$34","v":5.9053590217992822},null,null,null,1970]
[48,62900,4.7986506454452691,0.45279999999999998,{"$f":"NORMSINV(D50)+scale!C$34","v":5.8814097623546306},null,null,null,1971]
[49,62900,4.7986506454452691,0.44340000000000002,{"$f":"NORMSINV(D51)+scale!C$34","v":5.8576454999614862},null,null,null,1982]
[50,62700,4.7972675408307159,0.47170000000000001,{"$f":"NORMSINV(D52)+scale!C$34","v":5.9290028201722995},null,null,null,1991]
[51,61000,4.7853298350107671,0.48110000000000003,{"$f":"NORMSINV(D53)+scale!C$34","v":5.9526069900325691},null,null,null,1969]
[52,60500,4.7817553746524686,0.49059999999999998,{"$f":"NORMSINV(D54)+scale!C$34","v":5.9764355135657139},null,null,null,2015]
[53,59900,4.7774268223893106,0.5,{"$f":"NORMSINV(D55)+scale!C$34","v":6},null,null,null,1986]
[54,59400,4.7737864449811935,0.50939999999999996,{"$f":"NORMSINV(D56)+scale!C$34","v":6.0235644864342861},null,null,null,1972]
[55,58000,4.7634279935629369,0.51890000000000003,{"$f":"NORMSINV(D57)+scale!C$34","v":6.0473930099674309},null,null,null,1960]
[56,57600,4.7604224834232118,0.52829999999999999,{"$f":"NORMSINV(D58)+scale!C$34","v":6.0709971798277005},null,null,null,1995]
[57,57500,4.7596678446896306,0.53769999999999996,{"$f":"NORMSINV(D59)+scale!C$34","v":6.0946409782007169},null,null,null,2017]
[58,57300,4.7581546219673898,0.54720000000000002,{"$f":"NORMSINV(D60)+scale!C$34","v":6.1185902376453694},null,null,null,1959]
[59,56800,4.7543483357110183,0.55659999999999998,{"$f":"NORMSINV(D61)+scale!C$34","v":6.1423545000385138},null,null,null,1981]
[60,56700,4.7535830588929064,0.56599999999999995,{"$f":"NORMSINV(D62)+scale!C$34","v":6.1661994401703586},null,null,null,2008]
[61,56600,4.752816431188271,0.57550000000000001,{"$f":"NORMSINV(D63)+scale!C$34","v":6.1903945092048369},null,null,null,2010]
[62,56500,4.7520484478194378,0.58489999999999998,{"$f":"NORMSINV(D64)+scale!C$34","v":6.2144450677679259},null,null,null,1939]
[63,54300,4.7347998295888463,0.6038,{"$f":"NORMSINV(D65)+scale!C$34","v":6.2631953690192335},null,null,null,1999]
[64,54300,4.7347998295888463,0.59430000000000005,{"$f":"NORMSINV(D66)+scale!C$34","v":6.2386203292174125},null,null,null,2013]
[65,53000,4.7242758696007892,0.61319999999999997,{"$f":"NORMSINV(D67)+scale!C$34","v":6.2876691590913412},null,null,null,1926]
[66,51800,4.7143297597452323,0.62270000000000003,{"$f":"NORMSINV(D68)+scale!C$34","v":6.3125797037840599},null,null,null,2009]
[67,51100,4.7084209001347128,0.6321,{"$f":"NORMSINV(D69)+scale!C$34","v":6.3374204112137047},null,null,null,1993]
[68,50000,4.6989700043360187,0.64149999999999996,{"$f":"NORMSINV(D70)+scale!C$34","v":6.3624711216372436},null,null,null,1946]
[69,49900,4.6981005456233893,0.66039999999999999,{"$f":"NORMSINV(D71)+scale!C$34","v":6.4135550477834427},null,null,null,1951]
[70,49900,4.6981005456233893,0.65100000000000002,{"$f":"NORMSINV(D72)+scale!C$34","v":6.388021666217977},null,null,null,1976]
[71,49100,4.6910814921229678,0.66979999999999995,{"$f":"NORMSINV(D73)+scale!C$34","v":6.4393609734111781},null,null,null,2003]
[72,48100,4.682145076373831,0.67930000000000001,{"$f":"NORMSINV(D74)+scale!C$34","v":6.4657422588543261},null,null,null,2005]
[73,48000,4.6812412373755867,0.68869999999999998,{"$f":"NORMSINV(D75)+scale!C$34","v":6.4921688264264379},null,null,null,1949]
[74,47700,4.6785183790401135,0.69810000000000005,{"$f":"NORMSINV(D76)+scale!C$34","v":6.5189437035445952},null,null,null,1973]
[75,47000,4.6720978579357171,0.70760000000000001,{"$f":"NORMSINV(D77)+scale!C$34","v":6.5463869189458457},null,null,null,1979]
[76,46100,4.663700925389648,0.71699999999999997,{"$f":"NORMSINV(D78)+scale!C$34","v":6.5739524185685729},null,null,null,1931]
[77,44300,4.6464037262230695,0.72640000000000005,{"$f":"NORMSINV(D79)+scale!C$34","v":6.6019611472159037},null,null,null,1998]
[78,44200,4.6454222693490914,0.7359,{"$f":"NORMSINV(D80)+scale!C$34","v":6.6307561177276924},null,null,null,1984]
[79,43600,4.6394864892685854,0.74529999999999996,{"$f":"NORMSINV(D81)+scale!C$34","v":6.6597722403230577},null,null,null,2002]
[80,43000,4.6334684555795862,0.75470000000000004,{"$f":"NORMSINV(D82)+scale!C$34","v":6.689354832202465},null,null,null,1941]
[81,41900,4.6222140229662942,0.77359999999999995,{"$f":"NORMSINV(D83)+scale!C$34","v":6.7507551926989047},null,null,null,1983]
[82,41900,4.6222140229662942,0.76419999999999999,{"$f":"NORMSINV(D84)+scale!C$34","v":6.7198781860557508},null,null,null,2007]
[83,41400,4.6170003411208986,0.78300000000000003,{"$f":"NORMSINV(D85)+scale!C$34","v":6.7823651648553875},null,null,null,1954]
[84,40800,4.6106601630898796,0.79249999999999998,{"$f":"NORMSINV(D86)+scale!C$34","v":6.8151263327011549},null,null,null,1930]
[85,40700,4.6095944092252195,0.80189999999999995,{"$f":"NORMSINV(D87)+scale!C$34","v":6.8484273794576556},null,null,null,1990]
[86,40500,4.6074550232146674,0.81130000000000002,{"$f":"NORMSINV(D88)+scale!C$34","v":6.8826970064281747},null,null,null,1992]
[87,40300,4.6053050461411082,0.82079999999999997,{"$f":"NORMSINV(D89)+scale!C$34","v":6.9184181349923497},null,null,null,2012]
[88,39000,4.5910646070264987,0.83020000000000005,{"$f":"NORMSINV(D90)+scale!C$34","v":6.954955897972436},null,null,null,1955]
[89,38800,4.5888317255942068,0.8397,{"$f":"NORMSINV(D91)+scale!C$34","v":6.9932256520721428},null,null,null,1958]
[90,37600,4.5751878449276608,0.85850000000000004,{"$f":"NORMSINV(D92)+scale!C$34","v":7.0736044551309973},null,null,null,1940]
[91,37600,4.5751878449276608,0.84909999999999997,{"$f":"NORMSINV(D93)+scale!C$34","v":7.0325810502171606},null,null,null,1989]
[92,36000,4.5563025007672868,0.86799999999999999,{"$f":"NORMSINV(D94)+scale!C$34","v":7.1169867278766104},null,null,null,2000]
[93,35300,4.5477747053878224,0.87739999999999996,{"$f":"NORMSINV(D95)+scale!C$34","v":7.1620873137958068},null,null,null,1980]
[94,33700,4.5276299008713385,0.88680000000000003,{"$f":"NORMSINV(D96)+scale!C$34","v":7.2096844472599848},null,null,null,2006]
[95,33000,4.5185139398778871,0.89629999999999999,{"$f":"NORMSINV(D97)+scale!C$34","v":7.2607470403088055},null,null,null,1988]
[96,31800,4.5024271199844321,0.90569999999999995,{"$f":"NORMSINV(D98)+scale!C$34","v":7.3147319642659703},null,null,null,2016]
[97,30700,4.4871383754771861,0.91510000000000002,{"$f":"NORMSINV(D99)+scale!C$34","v":7.372846729777832},null,null,null,1961]
[98,29700,4.4727564493172123,0.92459999999999998,{"$f":"NORMSINV(D100)+scale!C$34","v":7.4367114505487804},null,null,null,1985]
[99,28100,4.4487063199050798,0.93400000000000005,{"$f":"NORMSINV(D101)+scale!C$34","v":7.5062617232782447},null,null,null,1977]
[100,28000,4.4471580313422185,0.94340000000000002,{"$f":"NORMSINV(D102)+scale!C$34","v":7.5839724001268927},null,null,null,1966]
[101,26400,4.4216039268698308,0.95289999999999997,{"$f":"NORMSINV(D103)+scale!C$34","v":7.673646978106424},null,null,null,1919]
[102,25800,4.4116197059632292,0.96230000000000004,{"$f":"NORMSINV(D104)+scale!C$34","v":7.7780234717169483},null,null,null,2004]
[103,24900,4.3961993470957363,0.97170000000000001,{"$f":"NORMSINV(D105)+scale!C$34","v":7.9063871088513018},null,null,null,2001]
[104,23000,4.3617278360175922,0.98119999999999996,{"$f":"NORMSINV(D106)+scale!C$34","v":8.0791888073881886},null,null,null,1987]
[105,17600,4.2455126678141495,0.99060000000000004,{"$f":"NORMSINV(D107)+scale!C$34","v":8.349473149271212},null,null,null,1934]

{"sheet":"curves","index":4,"n_rows":17,"n_cols":8,"rows_kept":17,"cut":false,"hidden":false,"merged":[]}
["curves:",15,"EMA"]
["prob","X-coord","Q","Log Q","Q2.5","Log Q2.5","Q97.5","Log Q97.5"]
[2E-3,{"$f":"NORMSINV(A3)+scale!C$34","v":3.1218382609045174},185800,5.2690457096576218,259400,5.4139699717480605,149800,5.175511813363447]
[5.0000000000000001E-3,{"$f":"NORMSINV(A4)+scale!C$34","v":3.4241706964511001},166500,5.221414237842338,219900,5.3422252293607899,138900,5.142702245737615]
[0.01,{"$f":"NORMSINV(A5)+scale!C$34","v":3.6736521259591592},151800,5.1812717715594614,192600,5.2846562827885153,129800,5.1132746924643495]
[0.02,{"$f":"NORMSINV(A6)+scale!C$34","v":3.9462510893681775},137000,5.1367205671564067,167100,5.222976449893391,119800,5.0784568180532919]
[0.04,{"$f":"NORMSINV(A7)+scale!C$34","v":4.2493139287478305},121900,5.0860037056183813,143300,5.1562461903973444,108600,5.0358298252528275]
[0.1,{"$f":"NORMSINV(A8)+scale!C$34","v":4.7184484344553992},101400,5.0060379549973169,114100,5.0572856444182142,91910,4.9633627661037361]
[0.2,{"$f":"NORMSINV(A9)+scale!C$34","v":5.1583787664270853},84800,4.9283958522567133,93460,4.9706257766882942,77470,4.8891335559667235]
[0.42920000000000003,{"$f":"NORMSINV(A10)+scale!C$34","v":5.8215887311255665},64180,4.8073997127594845,70170,4.8461514765288145,58720,4.768786046908013]
[0.5,{"$f":"NORMSINV(A11)+scale!C$34","v":6},59430,4.7740057302582093,64970,4.8127128667653682,54300,4.7347998295888463]
[0.66669999999999996,{"$f":"NORMSINV(A12)+scale!C$34","v":6.4308189769967123},49180,4.691788524402698,53860,4.7312663490754909,44640,4.6497241859295215]
[0.8,{"$f":"NORMSINV(A13)+scale!C$34","v":6.8416212335729147},40860,4.6112983622964281,45030,4.6535019469629324,36560,4.5630061870617933]
[0.9,{"$f":"NORMSINV(A14)+scale!C$34","v":7.2815515655446008},33340,4.5229655954919865,37250,4.5711262770843115,28850,4.4601458174917497]
[0.95,{"$f":"NORMSINV(A15)+scale!C$34","v":7.6448536269514715},28080,4.4483971034577667,31960,4.5046067706419528,23180,4.3651134316275773]
[0.99,{"$f":"NORMSINV(A16)+scale!C$34","v":8.3263478740408416},20130,4.3038437748886542,24220,4.3841741388070332,14520,4.1619666163640741]
[0.995,{"$f":"NORMSINV(A17)+scale!C$34","v":8.5758293035489004},17770,4.2496874278053012,21960,4.341632335778054,12020,4.0799044676667204]

{"sheet":"scale","index":5,"n_rows":87,"n_cols":13,"rows_kept":87,"cut":false,"hidden":false,"merged":[]}
[]
[]
[null,"X-axis tick mark coordinates",null,null,null,"Y-axis tick mark coordinates"]
[null,"probability axis",null,null,null,"log axis",null,null,null,null,null,"i","x"]
[null,"label","Ycoord","Xcoord",null,"label","Xcoord","Ycoord",null,null,null,null,0]
[null,99.99,{"$f":"C$34","v":6},{"$f":"NORMSINV(B6/100)+C6","v":9.7190164854554286},null,1E-3,{"$f":"B$34","v":10},{"$f":"LOG10(F6)","v":-3},null,null,null,1,{"$f":"M5+0.1","v":0.1}]
[null,99.9,{"$f":"C$34","v":6},{"$f":"NORMSINV(B7/100)+C7","v":9.0902323061678469},null,2E-3,10,-2.6989700043360187,null,null,null,{"$f":"L6+1","v":2},{"$f":"M6+0.1","v":0.2}]
[null,99.8,6,8.8781617390954821,null,3.0000000000000001E-3,10,-2.5228787452803374,null,null,null,{"$f":"L7+1","v":3},0.30000000000000004]
[null,99,6,8.3263478740408416,null,4.0000000000000001E-3,10,-2.3979400086720375,null,null,null,4,0.4]
[null,98,6,8.0537489106318212,null,5.0000000000000001E-3,10,-2.3010299956639813,null,null,null,5,0.5]
[null,95,6,7.6448536269514715,null,6.0000000000000001E-3,10,-2.2218487496163561,null,null,null,6,0.6]
[null,90,6,7.2815515655446008,null,6.9999999999999993E-3,10,-2.1549019599857431,null,null,null,7,0.7]
[null,80,6,6.8416212335729147,null,8.0000000000000002E-3,10,-2.0969100130080562,null,null,null,8,0.79999999999999993]
[null,70,6,6.5244005127080404,null,9.0000000000000011E-3,10,-2.0457574905606752,null,null,null,9,0.89999999999999991]
[null,60,6,6.2533471031358001,null,0.01,10,-2,null,null,null,10,0.99999999999999989]
[null,50,6,6,null,0.02,10,-1.6989700043360187,null,null,null,11,{"$f":"M15+1","v":2}]
[null,40,6,5.7466528968641999,null,0.03,10,-1.5228787452803376,null,null,null,12,3]
[null,30,6,5.4755994872919587,null,0.04,10,-1.3979400086720375,null,null,null,13,4]
[null,20,6,5.1583787664270853,null,0.05,10,-1.3010299956639813,null,null,null,14,5]
[null,10,6,4.7184484344553992,null,0.06,10,{"$f":"LOG10(F20)","v":-1.2218487496163564},null,null,null,15,6]
[null,5,6,4.3551463730485276,null,7.0000000000000007E-2,10,{"$f":"LOG10(F21)","v":-1.1549019599857431},null,null,null,16,7]
[null,2,6,3.9462510893681775,null,0.08,10,{"$f":"LOG10(F22)","v":-1.0969100130080565},null,null,null,17,8]
[null,1,6,3.6736521259591592,null,0.09,10,{"$f":"LOG10(F23)","v":-1.0457574905606752},null,null,null,18,9]
[null,0.5,6,3.4241706964511001,null,0.1,10,{"$f":"LOG10(F24)","v":-1},null,null,null,{"$f":"L23+1","v":19},10]
[null,0.2,6,3.1218382609045174,null,0.2,10,-0.69897000433601875,null,null,null,20,{"$f":"M24+10","v":20}]
[null,0.1,6,2.9097676938321868,null,0.3,10,-0.52287874528033762,null,null,null,21,{"$f":"M25+10","v":30}]
[null,0.05,6,2.7094732685081055,null,0.4,10,-0.3979400086720376,null,null,null,22,40]
[null,0.01,6,2.28098351454432,null,0.5,10,-0.3010299956639812,null,null,null,23,50]
[null,null,null,null,null,0.6,10,-0.22184874961635639,null,null,null,24,60]
[null,null,null,null,null,0.7,10,-0.15490195998574319,null,null,null,25,70]
[null,null,null,null,null,0.8,10,-9.6910013008056392E-2,null,null,null,26,80]
[null,"Axis limits",null,null,null,0.9,10,-4.5757490560675115E-2,null,null,null,27,90]
[null,"X axis","Y axis",null,null,1,{"$f":"B$34","v":10},0,null,null,null,28,100]
["high",{"$f":"INT(NORMSINV(99.997/100) +C34)","v":10},6,null,null,2,{"$f":"B$34","v":10},0.3010299956639812,null,null,null,29,{"$f":"M33+100","v":200}]
["low",{"$f":"NORMSINV(0.007/100) + C34","v":2.1918317355509807},4,null,null,3,10,0.47712125471966244,null,null,null,30,{"$f":"M34+100","v":300}]
[null,null,null,null,null,4,10,0.6020599913279624,null,null,null,31,400]
[null,"old Y axis limits",null,null,null,5,10,0.69897000433601886,null,null,null,32,500]
["high",null,6,null,null,6,10,0.77815125038364363,null,null,null,33,600]
["low",null,4,null,null,7,10,0.84509804001425681,null,null,null,34,700]
[null,null,null,null,null,8,10,0.90308998699194354,null,null,null,{"$f":"L39+1","v":35},800]
[null,"Error bar lengths",null,null,null,9,10,0.95424250943932487,null,null,null,36,900]
[null,8,"parallel to X",null,null,10,10,1,null,null,null,37,1000]
[null,{"$f":"C34-C35","v":2},"parallel to Y",null,null,20,10,1.3010299956639813,null,null,null,38]
[null,null,null,null,null,30,10,1.4771212547196624,null,null,null,39]
[null,null,null,null,null,40,10,1.6020599913279623,null,null,null,40]
[null,null,null,null,null,50,10,1.6989700043360187,null,null,null,41]
[null,null,null,null,null,60,10,1.7781512503836436,null,null,null,42]
[null,null,null,null,null,70,10,1.8450980400142569,null,null,null,43]
[null,null,null,null,null,80,10,1.9030899869919435,null,null,null,44]
[null,null,null,null,null,90,10,{"$f":"LOG10(F50)","v":1.954242509439325},null,null,null,45]
[null,null,null,null,null,100,10,{"$f":"LOG10(F51)","v":2},null,null,null,46]
[null,null,null,null,null,200,10,2.3010299956639808,null,null,null,47]
[null,null,null,null,null,300,10,2.4771212547196622,null,null,null,48]
[null,null,null,null,null,400,10,2.6020599913279621,null,null,null,49]
[null,null,null,null,null,500,10,2.6989700043360187,null,null,null,50]
[null,null,null,null,null,600,10,2.7781512503836434,null,null,null,51]
[null,null,null,null,null,700,10,2.8450980400142565,null,null,null,52]
[null,null,null,null,null,800,10,2.9030899869919433,null,null,null,53]
[null,null,null,null,null,900,10,2.9542425094393248,null,null,null,54]
[null,null,null,null,null,1000,10,3,null,null,null,55]
[null,null,null,null,null,2000,10,3.3010299956639808,null,null,null,56]
[null,null,null,null,null,3000,10,3.4771212547196622,null,null,null,57]
[null,null,null,null,null,4000,10,3.6020599913279621,null,null,null,58]
[null,null,null,null,null,5000,10,3.6989700043360183,null,null,null,59]
[null,null,null,null,null,6000,10,3.7781512503836434,null,null,null,60]
[null,null,null,null,null,7000,10,3.8450980400142565,null,null,null,61]
[null,null,null,null,null,8000,10,3.9030899869919433,null,null,null,62]
[null,null,null,null,null,9000,10,3.9542425094393243,null,null,null,63]
[null,null,null,null,null,10000,10,4]
[null,null,null,null,null,20000,10,{"$f":"LOG10(F70)","v":4.3010299956639813}]
[null,null,null,null,null,30000,10,4.4771212547196626]
[null,null,null,null,null,40000,10,4.6020599913279625]
[null,null,null,null,null,50000,10,4.6989700043360187]
[null,null,null,null,null,60000,10,4.7781512503836439]
[null,null,null,null,null,70000,10,4.8450980400142569]
[null,null,null,null,null,80000,10,4.9030899869919438]
[null,null,null,null,null,90000,10,4.9542425094393252]
[null,null,null,null,null,100000,10,5]
[null,null,null,null,null,200000,10,5.3010299956639813]
[null,null,null,null,null,300000,10,5.4771212547196626]
[null,null,null,null,null,400000,10,5.6020599913279625]
[null,null,null,null,null,500000,10,5.6989700043360187]
[null,null,null,null,null,600000,10,5.7781512503836439]
[null,null,null,null,null,700000,10,5.8450980400142569]
[null,null,null,null,null,800000,10,5.9030899869919438]
[null,null,null,null,null,900000,10,5.9542425094393252]
[null,null,null,null,null,1000000,10,6]